BEGIN:VCALENDAR
VERSION:2.0
PRODID:-//ASHRAE - ECPv6.15.1.1//NONSGML v1.0//EN
CALSCALE:GREGORIAN
METHOD:PUBLISH
X-WR-CALNAME:ASHRAE
X-ORIGINAL-URL:http://www.ashraevt.org
X-WR-CALDESC:Events for ASHRAE
REFRESH-INTERVAL;VALUE=DURATION:PT1H
X-Robots-Tag:noindex
X-PUBLISHED-TTL:PT1H
BEGIN:VTIMEZONE
TZID:America/New_York
BEGIN:DAYLIGHT
TZOFFSETFROM:-0500
TZOFFSETTO:-0400
TZNAME:EDT
DTSTART:20230312T070000
END:DAYLIGHT
BEGIN:STANDARD
TZOFFSETFROM:-0400
TZOFFSETTO:-0500
TZNAME:EST
DTSTART:20231105T060000
END:STANDARD
BEGIN:DAYLIGHT
TZOFFSETFROM:-0500
TZOFFSETTO:-0400
TZNAME:EDT
DTSTART:20240310T070000
END:DAYLIGHT
BEGIN:STANDARD
TZOFFSETFROM:-0400
TZOFFSETTO:-0500
TZNAME:EST
DTSTART:20241103T060000
END:STANDARD
END:VTIMEZONE
BEGIN:VTIMEZONE
TZID:UTC
BEGIN:STANDARD
TZOFFSETFROM:+0000
TZOFFSETTO:+0000
TZNAME:UTC
DTSTART:20230101T000000
END:STANDARD
END:VTIMEZONE
BEGIN:VEVENT
DTSTART;TZID=America/New_York:20240213T173000
DTEND;TZID=America/New_York:20240213T193000
DTSTAMP:20260425T062521
CREATED:20240129T134951Z
LAST-MODIFIED:20240129T134951Z
UID:10466-1707845400-1707852600@www.ashraevt.org
SUMMARY:Transferring the Heat at Jay Peak Resort
DESCRIPTION:Please join us at the St. John’s Club in Burlington to hear a presentation from Rick Stehmeyer the Controls Engineer and Andy Stenger the Director of Facilities about how Jay Peak is using heat recovery from the hotel WSHP loop at the water park . The heat recovery system paired with a new electric boiler has allowed the resort to significantly reduce its propane consumption. Come learn how these two systems tie into grid interactive controls. Rick is a controls engineer and commissioning agent who is currently focused on developing operational technologies that reduce energy consumption in buildings. \n  \n \n  \n \n  \nFree for students\n$30 for members\n$35 for nonmembers\n1 PDH will be assigned after the presentation \n  \nClick here to RSVP \nClick here to pay for members \nClick here to pay for non members \n  \nSchedule: \n5:30 Drinks \n6:00 Dinner \n6:30 Presentation and Discussion
URL:http://www.ashraevt.org/event/transferring-the-heat-at-jay-peak-resort/
LOCATION:St. John’s Club\, 9 Central Ave\, Burlington\, VT\, 05401\, United States
CATEGORIES:Chapter Meetings,Events
END:VEVENT
BEGIN:VEVENT
DTSTART;TZID=America/New_York:20240126T170000
DTEND;TZID=America/New_York:20240126T210000
DTSTAMP:20260425T062521
CREATED:20231002T201212Z
LAST-MODIFIED:20231228T135152Z
UID:10370-1706288400-1706302800@www.ashraevt.org
SUMMARY:UVM Hockey Game
DESCRIPTION:Join us for the UVM Men’s Hockey team vs. UNH at Gutterson Arena. The ASHRAE chapter has received special discounted tickets for the whole chapter\, including any friends and family that would like to attend! GO CATS!
URL:http://www.ashraevt.org/event/uvm-hockey-chiller-equipment-tour-and-game/
LOCATION:UVM Gutterson Fieldhouse\, 147 Spear St.\, Burlington\, VT\, 05401\, United States
CATEGORIES:Chapter Meetings,Events
END:VEVENT
BEGIN:VEVENT
DTSTART;TZID=America/New_York:20240110T120000
DTEND;TZID=America/New_York:20240110T130000
DTSTAMP:20260425T062521
CREATED:20231228T141936Z
LAST-MODIFIED:20240103T205524Z
UID:10459-1704888000-1704891600@www.ashraevt.org
SUMMARY:UVM STEM Building Tour
DESCRIPTION:Join us for a lunchtime tour of the UVM STEM building with Michael Pelletier\, UVM’s Facilities Manager. ASHRAE toured this facility when it was just getting built but now we will tour the entire completed facility. \n  \n \n  \nFree for students \n$20 for members \n$25 for nonmembers \n1 PDH will be assigned after the presentation \n  \nClick here to RSVP \nClick here to pay for members \nClick here to pay for non members \n  \nSchedule: \n11:45 AM meet at Henderson’s Cafe on 3rd floor in the Davis Center. 12 PM walk to STEM Building and tour
URL:http://www.ashraevt.org/event/uvm-stem-building/
LOCATION:University of Vermont – Dudley H. Davis Center\, 590 Main St.\, Burlington\, VT\, 05401\, United States
CATEGORIES:Chapter Meetings,Events
END:VEVENT
BEGIN:VEVENT
DTSTART;TZID=America/New_York:20231205T120000
DTEND;TZID=America/New_York:20231205T130000
DTSTAMP:20260425T062521
CREATED:20231002T200641Z
LAST-MODIFIED:20231120T172845Z
UID:10368-1701777600-1701781200@www.ashraevt.org
SUMMARY:ASHRAE Online Webinar "Heating with Ice"
DESCRIPTION:  Please join us for a lunch time meeting on Tuesday\, December 5th at 12:00pm. This will be a live webinar by ASHRAE Distinguished Lecturer Bruce Lindsay. He is currently the Business Development Leader for Trane’s Thermal Storage Systems (CALMAC ice tanks) and focuses on the investment tax credits in the US Inflation Reduction Act of 2022.  Mr. Lindsay has been involved in thermal storage for over 30 years and was the Executive Director of the Electric Power Research Institute’s Thermal Storage Research Center at the University of Wisconsin-Madison. He was recently the Energy Manager for Brevard County Public Schools (Florida)\, where he had 84 schools of which 20 had ice storage systems. The presentation topic is cooling and heating with ice. If you are curious about what this means\, here is a short introductory video: Heating with Ice\n \n \nFree for students\n$10 for members\n$15 for nonmembers\nAll those that register will receive a Teams meeting announcement on the morning\nof December 5th. 1 PDH will be assigned after the presentation.\nClick here to RSVP \nClick here to pay for members \nClick here to pay for non members
URL:http://www.ashraevt.org/event/ashrae-online-webinar/
LOCATION:VT
CATEGORIES:Chapter Meetings,Events
END:VEVENT
BEGIN:VEVENT
DTSTART;TZID=America/New_York:20231101T170000
DTEND;TZID=America/New_York:20231101T190000
DTSTAMP:20260425T062521
CREATED:20230922T173933Z
LAST-MODIFIED:20231010T184643Z
UID:10341-1698858000-1698865200@www.ashraevt.org
SUMMARY:Tour of the Vermont State Agriculture & Environmental Lab
DESCRIPTION:Come join us for a tour of the Vermont State Agriculture & Environmental Laboratory (VAEL) in Randolph Center\, completed in 2019. The facilities manager will show us around the main plant as well as lab spaces\, including viewing a magnetic bearing chiller. The equipment supplier has promised a special presentation on Oak trees and the unique custom air handler on the roof. Students attend for free. \nThis month’s food will be provided by a local shop near Randolph. \nClick here to RSVP \nClick here to pay for members \nClick here to pay for non members
URL:http://www.ashraevt.org/event/vermont-state-agricultural-lab-tour-and-dinner/
LOCATION:Vermont Technical College\, 124 Admin Dr.\, Randolph\, VT\, 05061\, United States
CATEGORIES:Chapter Meetings,Events
END:VEVENT
BEGIN:VEVENT
DTSTART;TZID=America/New_York:20231004T180000
DTEND;TZID=America/New_York:20231004T193000
DTSTAMP:20260425T062521
CREATED:20230921T135136Z
LAST-MODIFIED:20230926T010657Z
UID:10333-1696442400-1696447800@www.ashraevt.org
SUMMARY:Creating a World of Zero Energy Buildings
DESCRIPTION:Presentation by ASHRAE Distinguished Lecturer Paul Torcellini\, Ph.D. \nWith the advancement of energy efficiency and the rapid decrease in cost of solar electric systems\, the concept of creating a building that produces as much energy as it consumes is becoming a reality. This presentation will look the definition of a zero energy buildings\, communities\, and cities\, how to achieve this goal including the process for achieving success\, and some of the technologies that can be used. The lecture will dive into the decision making process that was used for actual zero energy building including data and lessons learned from these early adopters. \n1 PDH will be assigned after the presentation \nLocation:St. John’s Club9 Central Ave.\, Burlington VT \nSchedule:5:30 – Drinks6:00 – Announcements & Dinner6:30 – Presentation  \nRSVP \nCVC Members: Payment link \nNon-member: Payment link
URL:http://www.ashraevt.org/event/creating-a-world-of-zero-energy-buildings/
LOCATION:St. John’s Club\, 9 Central Ave\, Burlington\, VT\, 05401\, United States
CATEGORIES:Chapter Meetings,Events
END:VEVENT
BEGIN:VEVENT
DTSTART;TZID=America/New_York:20230912T173000
DTEND;TZID=America/New_York:20230912T193000
DTSTAMP:20260425T062521
CREATED:20230906T191000Z
LAST-MODIFIED:20230907T172422Z
UID:10271-1694539800-1694547000@www.ashraevt.org
SUMMARY:ASHRAE Address the Climate Crisis
DESCRIPTION:September Chapter Meeting & Presentation\n\nJoin us for drinks by the lake plus dinner and discussion on this year’s ASHRAE president Ginger Scoggins’ theme: “Challenge Accepted: Tackling the Climate Crisis.” \n5:30 Drinks and Social hour6:00 Chapter announcements & Dinner6:30 Presentation \n  \n			\n						RSVP\n					\n			\n						Meeting Payment
URL:http://www.ashraevt.org/event/ashrae-address-the-climate-crisis/
LOCATION:St. John’s Club\, 9 Central Ave\, Burlington\, VT\, 05401\, United States
CATEGORIES:Chapter Meetings,Events
ATTACH;FMTTYPE=image/jpeg:http://www.ashraevt.org/wp-content/uploads/2023/09/2023-September-Meeting.jpg
END:VEVENT
BEGIN:VEVENT
DTSTART;TZID=UTC:20230802T090000
DTEND;TZID=UTC:20230802T160000
DTSTAMP:20260425T062521
CREATED:20210716T142955Z
LAST-MODIFIED:20230721T131854Z
UID:10060-1690966800-1690992000@www.ashraevt.org
SUMMARY:CVC Annual Golf Outing
DESCRIPTION:We hope that you will join us for the 2023 annual CVC Golf Outing\nWednesday\, August 2 at the Williston Golf Club \n424 Golf Club Rd.\, Williston VT 05495\nwww.willistongolfclub.com \nRegistration ahead of time is required. Please send the team name and roster of four golfers to ashraevt@gmail.com no later than July 22\, 2023 \nReach out to John Grout by phone with questions: 508-878-9155 \nCost: Team of 4 golfers\, $500\nIndividual\, $125\nMulligans (max of 4 per team) $5 each\nPutting Competition (3 attempts) $5 per player \nPayPal \n\n  \n   \n\n\n\n        \n        Options\n      \n\n\n\n        \n            Team (4 golfers per team) $500.00 USD\n          \n            Individual Golfer $125.00 USD\n          \n            Mulligans (Maximum 4 per team) $5.00 USD\n          \n            Putting Competition $5.00 USD\n          \n      \n\n\n  \n  \n\nConsider being a Sponsor!\nMany opportunities to have your company name and logo as part of this event.\n2023 CVC Golf Outing Sponsorship Form\n\n  \n   \n\n\n\n        \n        Options\n      \n\n\n\n        \n            Scorecard Logo & Company Logo at Tee Box $300.00 USD\n          \n            Long Drive Men & Company Logo at Tee Box $300.00 USD\n          \n            Long Drive Women & Company Logo at Tee Box $300.00 USD\n          \n            Closest to the Pin & Company Logo at Tee Box $300.00 USD\n          \n            Hole in One & Company Logo at Tee Box $300.00 USD\n          \n            Bag Lunch & Company Logo at Tee Box $300.00 USD\n          \n            19th Hole Munches & Company Logo at Tee Box $300.00 USD\n          \n            Company Logo at Tee Box $150.00 USD
URL:http://www.ashraevt.org/event/2023golfouting/
LOCATION:Williston Golf Club\, 424 Golf Club Rd\, Williston\, VT\, 05495\, United States
CATEGORIES:Events
ATTACH;FMTTYPE=image/jpeg:http://www.ashraevt.org/wp-content/uploads/2021/07/16thgreen.jpg
END:VEVENT
END:VCALENDAR