BEGIN:VCALENDAR
VERSION:2.0
PRODID:-//ASHRAE - ECPv6.15.1.1//NONSGML v1.0//EN
CALSCALE:GREGORIAN
METHOD:PUBLISH
X-WR-CALNAME:ASHRAE
X-ORIGINAL-URL:http://www.ashraevt.org
X-WR-CALDESC:Events for ASHRAE
REFRESH-INTERVAL;VALUE=DURATION:PT1H
X-Robots-Tag:noindex
X-PUBLISHED-TTL:PT1H
BEGIN:VTIMEZONE
TZID:America/New_York
BEGIN:DAYLIGHT
TZOFFSETFROM:-0500
TZOFFSETTO:-0400
TZNAME:EDT
DTSTART:20250309T070000
END:DAYLIGHT
BEGIN:STANDARD
TZOFFSETFROM:-0400
TZOFFSETTO:-0500
TZNAME:EST
DTSTART:20251102T060000
END:STANDARD
BEGIN:DAYLIGHT
TZOFFSETFROM:-0500
TZOFFSETTO:-0400
TZNAME:EDT
DTSTART:20260308T070000
END:DAYLIGHT
BEGIN:STANDARD
TZOFFSETFROM:-0400
TZOFFSETTO:-0500
TZNAME:EST
DTSTART:20261101T060000
END:STANDARD
END:VTIMEZONE
BEGIN:VEVENT
DTSTART;TZID=America/New_York:20251015T113000
DTEND;TZID=America/New_York:20251015T140000
DTSTAMP:20260421T163717
CREATED:20251009T212258Z
LAST-MODIFIED:20251009T212427Z
UID:10635-1760527800-1760536800@www.ashraevt.org
SUMMARY:Tour of Burlington Airport "Project Next"
DESCRIPTION:Come join us as we tour the airport’s renovation of the north terminal with a larger net-zero energy space utilizing mass timber\, geothermal heat pumps\, solar power\, and a closed loop water system. We will have three people providing us detailed information on the HVAC system as we tour the building.\n  \n \nMike Wright\, Project Manager\, VHV – Mike has been involved with this project from the start and will be leading the tour. \nBen Fowler\, Commissioning Agent\, BFC – Ben is the commissioning agent on the project and will provide the group with information on commissioning the building. \nNick Rock\, Controls Engineer\, CTI – Nick was the controls engineer on the project and will talk about the use of 6-way Belimo PIC valves at the airport. \nMeeting Location\nVHV Trailer located on the north side of the airport and accessible from the airport drive. Please bring hard hat\, safety glasses and wear closed toe shoes and Hi VIZ clothing if you have it.\nArrive: 11:40am\nTour: 12pm – 1pm\nLunch: 1pm – 2pm Bag lunch \n  \nRSVP –  Click here to RSVP \nPayment for Members – $25  Click here to RSVP \nPayment for Non-Members – $35  Click here to RSVP
URL:http://www.ashraevt.org/event/tour-of-burlington-airport-project-next/
LOCATION:VT
CATEGORIES:Chapter Meetings,Events
END:VEVENT
BEGIN:VEVENT
DTSTART;TZID=America/New_York:20251112T173000
DTEND;TZID=America/New_York:20251112T190000
DTSTAMP:20260421T163717
CREATED:20251027T204648Z
LAST-MODIFIED:20251027T204648Z
UID:10643-1762968600-1762974000@www.ashraevt.org
SUMMARY:Young Engineers of ASHRAE Social at Switchback Brewery
DESCRIPTION:We’re young.\nWe’re living in Vermont.\nWe’re mechanical and energy engineers.\nWe’re ASHRAE members.\nLet’s meet and hang out! \nPlease come out to the first YEA event of the year at Switchback Brewery on Wednesday\, November 12th from 5:30-7pm for their $12 burger-and-beer special! Friends and family are welcome. \nYEA (Young Engineers in ASHRAE) is a subgroup that is focused on connecting members 35 and younger. I envision this hangout as an informal time for us to meet\, network\, and learn about each other and what we do.  \n  \n  \n \n  \nThis event is sponsored by Trane. ASHRAE member’s meals will be paid for.
URL:http://www.ashraevt.org/event/young-engineers-of-ashrae-social-at-switchback-brewery/
LOCATION:Switchback Brewing Co.\, 160 Flynn Ave.\, Burlington\, VT\, 05401\, United States
CATEGORIES:Chapter Meetings,Events
END:VEVENT
BEGIN:VEVENT
DTSTART;TZID=America/New_York:20251118T173000
DTEND;TZID=America/New_York:20251118T200000
DTSTAMP:20260421T163717
CREATED:20251110T215252Z
LAST-MODIFIED:20251110T215311Z
UID:10647-1763487000-1763496000@www.ashraevt.org
SUMMARY:Work Force Development
DESCRIPTION:We are all aware that Vermont is badly in need of skilled trades in all markets including HVAC&R. Work force development is a critical component to filling these positions. It also plays a role in economic and societal development. Come listen to Will Schwartz as he describes what is being done to fill the labor gap and help him brainstorm other possible solutions to developing skilled labor. What is your company doing to train and bring on new employees? \nWill Schwartz is the Workforce Development Manager at Efficiency Vermont\, where he leads statewide initiatives to grow and strengthen Vermont’s climate workforce. \n  \n \n  \nMeeting Location\nSt John’s Club\, Lower Level\n9 Central Ave Burlington \nSchedule \nSocial Hour 5:30-6 PM\nAnnouncements 6-6:15 PM\nDinner 6:15 PM\nPresentation 6:30-7:30 PM \nRSVP – Click here to RSVP \nPayment for Members – $35 Click here to Pay \nPayment for Non-Members – $40 Click here to Pay
URL:http://www.ashraevt.org/event/work-force-development/
LOCATION:St. John’s Club\, 9 Central Ave\, Burlington\, VT\, 05401\, United States
CATEGORIES:Chapter Meetings,Events
END:VEVENT
BEGIN:VEVENT
DTSTART;TZID=America/New_York:20251203T120000
DTEND;TZID=America/New_York:20251203T130000
DTSTAMP:20260421T163717
CREATED:20251202T153804Z
LAST-MODIFIED:20251202T153804Z
UID:10651-1764763200-1764766800@www.ashraevt.org
SUMMARY:Belimo Webinar - Pressure Independent Control Valves
DESCRIPTION:When should you be specifying pressure-independent control valves in hydronic systems? What are the benefits and draw backs of their use? Come to the lunch time webinar by Mark Stanieich\, Regional Applications Consultant with Belimo Air Controls USA. \nOnline Webinar 12-1 PM. Please register for the event and we will send you a Teams Meeting Link. There is no cost to attend this webinar. \nClick here to RSVP \n 
URL:http://www.ashraevt.org/event/belimo-webinar-pressure-independent-control-valves/
LOCATION:VT
CATEGORIES:Chapter Meetings,Events
END:VEVENT
BEGIN:VEVENT
DTSTART;TZID=America/New_York:20260114T120000
DTEND;TZID=America/New_York:20260114T130000
DTSTAMP:20260421T163717
CREATED:20260108T214544Z
LAST-MODIFIED:20260108T214544Z
UID:10680-1768392000-1768395600@www.ashraevt.org
SUMMARY:Webinar: Ceiling Radiation Dampers
DESCRIPTION:Join us for a lunchtime webinar on ceiling radiation dampers. Learn how they differ from fire dampers\, the difference between static vs dynamic\, when\, where and how to install them\, and how to properly select the right CRD. \nFree for all. A link with be sent to your email prior to the webinar. 1 PDH credit will be awarded after the meeting. \nClick here to RSVP \n 
URL:http://www.ashraevt.org/event/webinar-ceiling-radiation-dampers/
LOCATION:VT
CATEGORIES:Chapter Meetings,Events
END:VEVENT
BEGIN:VEVENT
DTSTART;TZID=America/New_York:20260122T173000
DTEND;TZID=America/New_York:20260122T193000
DTSTAMP:20260421T163717
CREATED:20260108T215655Z
LAST-MODIFIED:20260108T215655Z
UID:10686-1769103000-1769110200@www.ashraevt.org
SUMMARY:Presentation: Designing for Campus - Decarb and New Construction at Dartmouth College
DESCRIPTION:Presentation – \nDartmouth’s Facilities Engineering team will share about their recent work in designing and managing the construction of several new dorms and buildings that are linked into a greater effort to decarbonize the campus. The engineers will share: \n\nProject overview\nResults of tools used in the analysis\nHow the data influenced design decisions\nReview of design parameters\nHow it relates to what you see outside the building.\n\nOutside of the ECSC there are three dorms currently under construction at various stages\, and throughout campus geo-exchange bore fields and pump houses are being installed. It’s an exciting time to design and build campus facilities\, and at this meeting we will get a glimpse into how design decisions are made on campus. \nShout out to NH Chapter for setting up this joint meeting! https://nhashrae.starchapter.com/meetinginfo.php?id=25 \n1 PDH credit will be awarded after the meeting \nClick here to RSVP
URL:http://www.ashraevt.org/event/presentation-designing-for-campus-decarb-and-new-construction-at-dartmouth-college/
LOCATION:Dartmouth College\, 15 Thayer Dr.\, Hanover\, NH\, 03755\, United States
CATEGORIES:Chapter Meetings,Events
END:VEVENT
BEGIN:VEVENT
DTSTART;TZID=America/New_York:20260218T173000
DTEND;TZID=America/New_York:20260218T200000
DTSTAMP:20260421T163717
CREATED:20260211T220354Z
LAST-MODIFIED:20260211T220354Z
UID:10690-1771435800-1771444800@www.ashraevt.org
SUMMARY:Natatorium Design Presentation
DESCRIPTION:Presentation\nMathson Browne is a Regional Sales Manager\, at Seresco a division of Dehumidified Air Solutions\, a manufacturer of humidity and temperature control equipment. He boasts over 9 years of experience in the indoor pool design and dehumidification world after starting out his internship in the chiller market. Understanding HVAC equipment and their function in a building has always been a passion of his. He attended Cégep Vanier (Montréal) where he graduated as an honorary student in Building Systems Engineering. He was proud of being the ASHRAE student chapter president in his program. His presentation is titled “Natatorium Design – Key Considerations for Designing a Successful Facility.”  \n1 PDH credit will be awarded after the meeting. \n  \nClick here to RSVP \nClick here to Pay – Members\, $35 \nClick here to Pay – Non-Members\, $40 \n  \nSchedule – \n5:30  Social Hour\n6:00  Announcements\n6:15  Dinner\n6:45  Presentation
URL:http://www.ashraevt.org/event/natatorium-design-presentation/
LOCATION:St. John’s Club\, 9 Central Ave\, Burlington\, VT\, 05401\, United States
CATEGORIES:Chapter Meetings,Events
END:VEVENT
BEGIN:VEVENT
DTSTART;TZID=America/New_York:20260415T173000
DTEND;TZID=America/New_York:20260415T193000
DTSTAMP:20260421T163717
CREATED:20260401T125546Z
LAST-MODIFIED:20260401T125546Z
UID:10693-1776274200-1776281400@www.ashraevt.org
SUMMARY:"AI in HVAC Industry: Past\, Present\, and Future"
DESCRIPTION:Recent advancements in conversational Al and machine learning techniques have taken the world by storm where every aspect of our work and daily lives will be impacted by these next generation Al technologies. Using cloud-based computing\, internet information resources\, and rapid advancements in natural language processing and conversational Al\, the HVAC industry can now solve many challenging problems with analysis\, design and operation. This presentation will review the history\, terminology\, concepts\, development tools and application of recent advancements in Al for ASHRAE members; and provide an overview of Al Chatbot and machine learning technologies for HVAC industry applications. \n \nKrishnan Gowri is a Senior Engineering Fellow at Energy Solutions\, leading innovations in building performance analysis for energy code development and implementation. His career includes leadership roles at Pacific Northwest National Laboratory (developer of COMcheck and REScheck)\, Autodesk (cloud-based energy modeling integration in Revit)\, and lntertek (energy code compliance and enclosure commissioning}. He currently chairs the 2027 Applications Handbook Subcommittee\, leads ASHRAE’s Generative Al Multidisciplinary Group\, and serves as President of the Puget Sound Chapter. He holds a Ph.D. in Building Engineering From Concordia University. \nClick here to RSVP \nMembers $30 \nNon-Members $40 \nSchedule:\n5:30pm Social Hour\n6-6:15pm Announcements followed by dinner\n6:30pm Presentation
URL:http://www.ashraevt.org/event/ai-in-hvac-industry-past-present-and-future/
LOCATION:St. John’s Club\, 9 Central Ave\, Burlington\, VT\, 05401\, United States
CATEGORIES:Chapter Meetings,Events
END:VEVENT
END:VCALENDAR